Package: BicARE Version: 1.62.0 Command: /home/biocbuild/R/R-beta-2024-04-15_r86425/bin/R CMD check --install=check:BicARE.install-out.txt --library=/home/biocbuild/R/R-beta-2024-04-15_r86425/site-library --no-vignettes --timings BicARE_1.62.0.tar.gz StartedAt: 2024-05-09 05:08:08 -0000 (Thu, 09 May 2024) EndedAt: 2024-05-09 05:12:57 -0000 (Thu, 09 May 2024) EllapsedTime: 289.5 seconds RetCode: 0 Status: OK CheckDir: BicARE.Rcheck Warnings: 0