Package: BiSeq Version: 1.44.0 Command: rm -rf BiSeq.buildbin-libdir && mkdir BiSeq.buildbin-libdir && E:\biocbuild\bbs-3.19-bioc\R\bin\R.exe CMD INSTALL --build --library=BiSeq.buildbin-libdir BiSeq_1.44.0.tar.gz StartedAt: 2024-10-17 07:26:37 -0400 (Thu, 17 Oct 2024) EndedAt: 2024-10-17 07:27:41 -0400 (Thu, 17 Oct 2024) EllapsedTime: 63.9 seconds RetCode: 0 Status: OK PackageFile: BiSeq_1.44.0.zip PackageFileSize: 1.164 MiB