Package: BiSeq Version: 1.44.0 Command: /Library/Frameworks/R.framework/Resources/bin/R CMD build --keep-empty-dirs --no-resave-data BiSeq StartedAt: 2024-10-16 17:33:10 -0400 (Wed, 16 Oct 2024) EndedAt: 2024-10-16 17:38:04 -0400 (Wed, 16 Oct 2024) EllapsedTime: 293.9 seconds RetCode: 0 Status: OK PackageFile: BiSeq_1.44.0.tar.gz PackageFileSize: 915.3 KiB