Package: BiSeq Version: 1.44.0 Command: /Library/Frameworks/R.framework/Resources/bin/R CMD INSTALL BiSeq StartedAt: 2024-06-09 17:01:02 -0400 (Sun, 09 Jun 2024) EndedAt: 2024-06-09 17:01:59 -0400 (Sun, 09 Jun 2024) EllapsedTime: 56.0 seconds RetCode: 0 Status: OK