Package: BiGGR Version: 1.40.0 Command: chmod a+r BiGGR -R && F:\biocbuild\bbs-3.19-bioc\R\bin\R.exe CMD build --keep-empty-dirs --no-resave-data BiGGR StartedAt: 2024-06-26 17:19:58 -0400 (Wed, 26 Jun 2024) EndedAt: 2024-06-26 17:20:36 -0400 (Wed, 26 Jun 2024) EllapsedTime: 38.0 seconds RetCode: 0 Status: OK PackageFile: BiGGR_1.40.0.tar.gz PackageFileSize: 4.194 MiB