Package: BiGGR Version: 1.40.0 Command: /home/biocbuild/bbs-3.19-bioc/R/bin/R CMD build --keep-empty-dirs --no-resave-data BiGGR StartedAt: 2024-10-16 17:10:05 -0400 (Wed, 16 Oct 2024) EndedAt: 2024-10-16 17:10:21 -0400 (Wed, 16 Oct 2024) EllapsedTime: 16.0 seconds RetCode: 0 Status: OK PackageFile: BiGGR_1.40.0.tar.gz PackageFileSize: 4.192 MiB