Package: BiGGR Version: 1.40.0 Command: /home/biocbuild/R/R-beta-2024-04-15_r86425/bin/R CMD build --keep-empty-dirs --no-resave-data BiGGR StartedAt: 2024-05-08 22:40:59 -0000 (Wed, 08 May 2024) EndedAt: 2024-05-08 22:41:00 -0000 (Wed, 08 May 2024) EllapsedTime: 1.0 seconds RetCode: 1 Status: ERROR PackageFile: None PackageFileSize: NA