Package: BiFET Version: 1.24.0 Command: F:\biocbuild\bbs-3.19-bioc\R\bin\R.exe CMD INSTALL BiFET StartedAt: 2024-06-26 15:50:07 -0400 (Wed, 26 Jun 2024) EndedAt: 2024-06-26 15:50:21 -0400 (Wed, 26 Jun 2024) EllapsedTime: 13.7 seconds RetCode: 0 Status: OK