Package: BiFET Version: 1.24.0 Command: rm -rf BiFET.buildbin-libdir && mkdir BiFET.buildbin-libdir && F:\biocbuild\bbs-3.19-bioc\R\bin\R.exe CMD INSTALL --build --library=BiFET.buildbin-libdir BiFET_1.24.0.tar.gz StartedAt: 2024-06-27 07:53:02 -0400 (Thu, 27 Jun 2024) EndedAt: 2024-06-27 07:53:16 -0400 (Thu, 27 Jun 2024) EllapsedTime: 13.3 seconds RetCode: 0 Status: OK PackageFile: BiFET_1.24.0.zip PackageFileSize: 663.4 KiB