Package: BiFET Version: 1.24.0 Command: /home/biocbuild/R/R-beta-2024-04-15_r86425/bin/R CMD build --keep-empty-dirs --no-resave-data BiFET StartedAt: 2024-05-08 22:40:53 -0000 (Wed, 08 May 2024) EndedAt: 2024-05-08 22:42:27 -0000 (Wed, 08 May 2024) EllapsedTime: 94.1 seconds RetCode: 0 Status: OK PackageFile: BiFET_1.24.0.tar.gz PackageFileSize: 669.4 KiB