Package: BiFET Version: 1.24.0 Command: /Library/Frameworks/R.framework/Resources/bin/R CMD INSTALL BiFET StartedAt: 2024-06-09 15:16:14 -0400 (Sun, 09 Jun 2024) EndedAt: 2024-06-09 15:16:26 -0400 (Sun, 09 Jun 2024) EllapsedTime: 12.3 seconds RetCode: 0 Status: OK