Package: BiFET Version: 1.24.0 Command: /Library/Frameworks/R.framework/Resources/bin/R CMD check --install=check:BiFET.install-out.txt --library=/Library/Frameworks/R.framework/Resources/library --no-vignettes --timings BiFET_1.24.0.tar.gz StartedAt: 2024-10-17 13:42:02 -0400 (Thu, 17 Oct 2024) EndedAt: 2024-10-17 13:45:10 -0400 (Thu, 17 Oct 2024) EllapsedTime: 187.8 seconds RetCode: 0 Status: OK CheckDir: BiFET.Rcheck Warnings: 0