Package: BgeeDB Version: 2.30.2 Command: E:\biocbuild\bbs-3.19-bioc\R\bin\R.exe CMD check --no-multiarch --install=check:BgeeDB.install-out.txt --library=E:\biocbuild\bbs-3.19-bioc\R\library --no-vignettes --timings BgeeDB_2.30.2.tar.gz StartedAt: 2024-10-16 23:08:59 -0400 (Wed, 16 Oct 2024) EndedAt: 2024-10-16 23:14:57 -0400 (Wed, 16 Oct 2024) EllapsedTime: 358.3 seconds RetCode: 0 Status: OK CheckDir: BgeeDB.Rcheck Warnings: 0