Package: BgeeDB Version: 2.30.2 Command: chmod a+r BgeeDB -R && E:\biocbuild\bbs-3.19-bioc\R\bin\R.exe CMD build --keep-empty-dirs --no-resave-data BgeeDB StartedAt: 2024-10-16 17:44:51 -0400 (Wed, 16 Oct 2024) EndedAt: 2024-10-16 17:59:57 -0400 (Wed, 16 Oct 2024) EllapsedTime: 906.9 seconds RetCode: 0 Status: OK PackageFile: BgeeDB_2.30.2.tar.gz PackageFileSize: 99.51 KiB