Package: BgeeDB Version: 2.30.0 Command: rm -rf BgeeDB.buildbin-libdir && mkdir BgeeDB.buildbin-libdir && F:\biocbuild\bbs-3.19-bioc\R\bin\R.exe CMD INSTALL --build --library=BgeeDB.buildbin-libdir BgeeDB_2.30.0.tar.gz StartedAt: 2024-06-27 07:52:54 -0400 (Thu, 27 Jun 2024) EndedAt: 2024-06-27 07:53:24 -0400 (Thu, 27 Jun 2024) EllapsedTime: 30.0 seconds RetCode: 0 Status: OK PackageFile: BgeeDB_2.30.0.zip PackageFileSize: 343.4 KiB