Package: BgeeDB Version: 2.30.2 Command: /home/biocbuild/bbs-3.19-bioc/R/bin/R CMD INSTALL BgeeDB StartedAt: 2024-10-16 16:13:03 -0400 (Wed, 16 Oct 2024) EndedAt: 2024-10-16 16:13:22 -0400 (Wed, 16 Oct 2024) EllapsedTime: 19.0 seconds RetCode: 0 Status: OK