Package: BgeeDB Version: 2.30.2 Command: /Library/Frameworks/R.framework/Resources/bin/R CMD INSTALL BgeeDB StartedAt: 2024-10-16 15:49:08 -0400 (Wed, 16 Oct 2024) EndedAt: 2024-10-16 15:49:57 -0400 (Wed, 16 Oct 2024) EllapsedTime: 48.9 seconds RetCode: 0 Status: OK