Package: BgeeDB Version: 2.30.2 Command: /Library/Frameworks/R.framework/Resources/bin/R CMD check --install=check:BgeeDB.install-out.txt --library=/Library/Frameworks/R.framework/Resources/library --no-vignettes --timings BgeeDB_2.30.2.tar.gz StartedAt: 2024-10-14 01:15:43 -0400 (Mon, 14 Oct 2024) EndedAt: 2024-10-14 01:27:44 -0400 (Mon, 14 Oct 2024) EllapsedTime: 721.0 seconds RetCode: 0 Status: OK CheckDir: BgeeDB.Rcheck Warnings: 0