Package: BgeeDB Version: 2.30.2 Command: /Library/Frameworks/R.framework/Resources/bin/R CMD build --keep-empty-dirs --no-resave-data BgeeDB StartedAt: 2024-10-16 17:19:38 -0400 (Wed, 16 Oct 2024) EndedAt: 2024-10-16 17:59:39 -0400 (Wed, 16 Oct 2024) EllapsedTime: 2400.8 seconds RetCode: None Status: TIMEOUT PackageFile: None PackageFileSize: NA