Package: BgeeCall Version: 1.20.1 Command: E:\biocbuild\bbs-3.19-bioc\R\bin\R.exe CMD check --no-multiarch --install=check:BgeeCall.install-out.txt --library=E:\biocbuild\bbs-3.19-bioc\R\library --no-vignettes --timings BgeeCall_1.20.1.tar.gz StartedAt: 2024-10-16 23:08:51 -0400 (Wed, 16 Oct 2024) EndedAt: 2024-10-16 23:14:26 -0400 (Wed, 16 Oct 2024) EllapsedTime: 334.5 seconds RetCode: 0 Status: OK CheckDir: BgeeCall.Rcheck Warnings: 0