Package: BgeeCall Version: 1.20.1 Command: rm -rf BgeeCall.buildbin-libdir && mkdir BgeeCall.buildbin-libdir && E:\biocbuild\bbs-3.19-bioc\R\bin\R.exe CMD INSTALL --build --library=BgeeCall.buildbin-libdir BgeeCall_1.20.1.tar.gz StartedAt: 2024-10-17 07:23:40 -0400 (Thu, 17 Oct 2024) EndedAt: 2024-10-17 07:24:47 -0400 (Thu, 17 Oct 2024) EllapsedTime: 67.6 seconds RetCode: 0 Status: OK PackageFile: BgeeCall_1.20.1.zip PackageFileSize: 5.936 MiB