Package: BgeeCall Version: 1.20.0 Command: chmod a+r BgeeCall -R && F:\biocbuild\bbs-3.19-bioc\R\bin\R.exe CMD build --keep-empty-dirs --no-resave-data BgeeCall StartedAt: 2024-06-26 17:18:27 -0400 (Wed, 26 Jun 2024) EndedAt: 2024-06-26 17:21:07 -0400 (Wed, 26 Jun 2024) EllapsedTime: 160.8 seconds RetCode: 0 Status: OK PackageFile: BgeeCall_1.20.0.tar.gz PackageFileSize: 5.664 MiB