Package: BgeeCall Version: 1.20.1 Command: /home/biocbuild/bbs-3.19-bioc/R/bin/R CMD INSTALL BgeeCall StartedAt: 2024-10-16 16:15:41 -0400 (Wed, 16 Oct 2024) EndedAt: 2024-10-16 16:16:17 -0400 (Wed, 16 Oct 2024) EllapsedTime: 36.5 seconds RetCode: 0 Status: OK