Package: BgeeCall Version: 1.20.1 Command: /home/biocbuild/bbs-3.19-bioc/R/bin/R CMD build --keep-empty-dirs --no-resave-data BgeeCall StartedAt: 2024-10-16 17:08:47 -0400 (Wed, 16 Oct 2024) EndedAt: 2024-10-16 17:10:15 -0400 (Wed, 16 Oct 2024) EllapsedTime: 88.1 seconds RetCode: 0 Status: OK PackageFile: BgeeCall_1.20.1.tar.gz PackageFileSize: 5.665 MiB