Package: BgeeCall Version: 1.20.1 Command: /Library/Frameworks/R.framework/Resources/bin/R CMD INSTALL BgeeCall StartedAt: 2024-10-16 15:53:52 -0400 (Wed, 16 Oct 2024) EndedAt: 2024-10-16 15:55:20 -0400 (Wed, 16 Oct 2024) EllapsedTime: 87.7 seconds RetCode: 0 Status: OK