Package: BgeeCall Version: 1.20.1 Command: rm -rf BgeeCall.buildbin-libdir && mkdir BgeeCall.buildbin-libdir && /Users/biocbuild/BBS/utils/build-universal.sh BgeeCall_1.20.1.tar.gz /Library/Frameworks/R.framework/Resources/bin/R BgeeCall.buildbin-libdir StartedAt: 2024-10-17 15:41:59 -0400 (Thu, 17 Oct 2024) EndedAt: 2024-10-17 15:43:31 -0400 (Thu, 17 Oct 2024) EllapsedTime: 91.7 seconds RetCode: 0 Status: OK PackageFile: BgeeCall_1.20.1.tgz PackageFileSize: 5.951 MiB