Package: BgeeCall Version: 1.20.1 Command: /Library/Frameworks/R.framework/Resources/bin/R CMD INSTALL BgeeCall StartedAt: 2024-10-16 17:04:57 -0400 (Wed, 16 Oct 2024) EndedAt: 2024-10-16 17:05:42 -0400 (Wed, 16 Oct 2024) EllapsedTime: 45.3 seconds RetCode: 0 Status: OK