Package: BgeeCall Version: 1.20.1 Maintainer: Julien Wollbrett MaintainerEmail: julien.wollbrett at unil.ch git_url: https://git.bioconductor.org/packages/BgeeCall git_branch: RELEASE_3_19 git_last_commit: 77e8402 git_last_commit_date: 2024-07-12 06:53:37 -0400 (Fri, 12 Jul 2024)