Package: BeadDataPackR Version: 1.56.0 Command: rm -rf BeadDataPackR.buildbin-libdir && mkdir BeadDataPackR.buildbin-libdir && E:\biocbuild\bbs-3.19-bioc\R\bin\R.exe CMD INSTALL --build --library=BeadDataPackR.buildbin-libdir BeadDataPackR_1.56.0.tar.gz StartedAt: 2024-10-17 07:23:15 -0400 (Thu, 17 Oct 2024) EndedAt: 2024-10-17 07:23:46 -0400 (Thu, 17 Oct 2024) EllapsedTime: 30.7 seconds RetCode: 0 Status: OK PackageFile: BeadDataPackR_1.56.0.zip PackageFileSize: 294.3 KiB