Package: BeadDataPackR Version: 1.56.0 Command: F:\biocbuild\bbs-3.19-bioc\R\bin\R.exe CMD INSTALL BeadDataPackR StartedAt: 2024-06-26 15:38:59 -0400 (Wed, 26 Jun 2024) EndedAt: 2024-06-26 15:39:25 -0400 (Wed, 26 Jun 2024) EllapsedTime: 25.9 seconds RetCode: 0 Status: OK