Package: BeadDataPackR Version: 1.56.0 Command: /home/biocbuild/bbs-3.19-bioc/R/bin/R CMD INSTALL BeadDataPackR StartedAt: 2024-10-16 15:49:20 -0400 (Wed, 16 Oct 2024) EndedAt: 2024-10-16 15:49:23 -0400 (Wed, 16 Oct 2024) EllapsedTime: 2.8 seconds RetCode: 0 Status: OK