Package: BeadDataPackR Version: 1.56.0 Command: /Library/Frameworks/R.framework/Resources/bin/R CMD INSTALL BeadDataPackR StartedAt: 2024-10-16 15:06:02 -0400 (Wed, 16 Oct 2024) EndedAt: 2024-10-16 15:06:21 -0400 (Wed, 16 Oct 2024) EllapsedTime: 19.2 seconds RetCode: 0 Status: OK