Package: BeadDataPackR Version: 1.56.0 Command: /Library/Frameworks/R.framework/Resources/bin/R CMD check --install=check:BeadDataPackR.install-out.txt --library=/Library/Frameworks/R.framework/Resources/library --no-vignettes --timings BeadDataPackR_1.56.0.tar.gz StartedAt: 2024-05-26 19:32:56 -0400 (Sun, 26 May 2024) EndedAt: 2024-05-26 19:33:24 -0400 (Sun, 26 May 2024) EllapsedTime: 28.5 seconds RetCode: 0 Status: OK CheckDir: BeadDataPackR.Rcheck Warnings: 0