Package: BeadDataPackR Version: 1.56.0 Command: /home/biocbuild/R/R-beta-2024-04-15_r86425/bin/R CMD check --install=check:BeadDataPackR.install-out.txt --library=/home/biocbuild/R/R-beta-2024-04-15_r86425/site-library --no-vignettes --timings BeadDataPackR_1.56.0.tar.gz StartedAt: 2024-05-09 05:04:36 -0000 (Thu, 09 May 2024) EndedAt: 2024-05-09 05:04:57 -0000 (Thu, 09 May 2024) EllapsedTime: 21.0 seconds RetCode: 0 Status: OK CheckDir: BeadDataPackR.Rcheck Warnings: 0