Package: BeadDataPackR Version: 1.56.0 Command: /home/biocbuild/R/R-beta-2024-04-15_r86425/bin/R CMD build --keep-empty-dirs --no-resave-data BeadDataPackR StartedAt: 2024-05-08 22:36:29 -0000 (Wed, 08 May 2024) EndedAt: 2024-05-08 22:36:36 -0000 (Wed, 08 May 2024) EllapsedTime: 7.0 seconds RetCode: 0 Status: OK PackageFile: BeadDataPackR_1.56.0.tar.gz PackageFileSize: 228.3 KiB