Package: BeadDataPackR Version: 1.56.0 Command: /Library/Frameworks/R.framework/Resources/bin/R CMD INSTALL BeadDataPackR StartedAt: 2024-10-16 15:34:53 -0400 (Wed, 16 Oct 2024) EndedAt: 2024-10-16 15:34:57 -0400 (Wed, 16 Oct 2024) EllapsedTime: 3.9 seconds RetCode: 0 Status: OK