Package: BeadDataPackR Version: 1.56.0 Command: /Library/Frameworks/R.framework/Resources/bin/R CMD check --install=check:BeadDataPackR.install-out.txt --library=/Library/Frameworks/R.framework/Resources/library --no-vignettes --timings BeadDataPackR_1.56.0.tar.gz StartedAt: 2024-10-17 13:22:32 -0400 (Thu, 17 Oct 2024) EndedAt: 2024-10-17 13:23:01 -0400 (Thu, 17 Oct 2024) EllapsedTime: 28.8 seconds RetCode: 0 Status: OK CheckDir: BeadDataPackR.Rcheck Warnings: 0