Package: BeadDataPackR Version: 1.56.0 Command: /Library/Frameworks/R.framework/Resources/bin/R CMD build --keep-empty-dirs --no-resave-data BeadDataPackR StartedAt: 2024-10-16 20:03:41 -0400 (Wed, 16 Oct 2024) EndedAt: 2024-10-16 20:03:54 -0400 (Wed, 16 Oct 2024) EllapsedTime: 12.6 seconds RetCode: 0 Status: OK PackageFile: BeadDataPackR_1.56.0.tar.gz PackageFileSize: 235.8 KiB