Package: BayesSpace Version: 1.14.0 Command: E:\biocbuild\bbs-3.19-bioc\R\bin\R.exe CMD INSTALL BayesSpace StartedAt: 2024-10-16 17:22:21 -0400 (Wed, 16 Oct 2024) EndedAt: 2024-10-16 17:23:40 -0400 (Wed, 16 Oct 2024) EllapsedTime: 78.5 seconds RetCode: 0 Status: OK