Package: BayesSpace Version: 1.14.0 Command: chmod a+r BayesSpace -R && F:\biocbuild\bbs-3.19-bioc\R\bin\R.exe CMD build --keep-empty-dirs --no-resave-data BayesSpace StartedAt: 2024-06-26 17:15:01 -0400 (Wed, 26 Jun 2024) EndedAt: 2024-06-26 17:18:04 -0400 (Wed, 26 Jun 2024) EllapsedTime: 183.2 seconds RetCode: 0 Status: OK PackageFile: BayesSpace_1.14.0.tar.gz PackageFileSize: 1000 KiB