Package: BayesSpace Version: 1.14.0 Command: /Library/Frameworks/R.framework/Resources/bin/R CMD build --keep-empty-dirs --no-resave-data BayesSpace StartedAt: 2024-06-09 15:54:34 -0400 (Sun, 09 Jun 2024) EndedAt: 2024-06-09 15:56:52 -0400 (Sun, 09 Jun 2024) EllapsedTime: 138.4 seconds RetCode: 0 Status: OK PackageFile: BayesSpace_1.14.0.tar.gz PackageFileSize: 1.616 MiB