Package: BayesSpace Version: 1.14.0 Command: /Library/Frameworks/R.framework/Resources/bin/R CMD build --keep-empty-dirs --no-resave-data BayesSpace StartedAt: 2024-10-16 19:57:06 -0400 (Wed, 16 Oct 2024) EndedAt: 2024-10-16 19:59:21 -0400 (Wed, 16 Oct 2024) EllapsedTime: 135.0 seconds RetCode: 0 Status: OK PackageFile: BayesSpace_1.14.0.tar.gz PackageFileSize: 1.615 MiB