Package: BayesKnockdown Version: 1.30.0 Command: chmod a+r BayesKnockdown -R && F:\biocbuild\bbs-3.19-bioc\R\bin\R.exe CMD build --keep-empty-dirs --no-resave-data BayesKnockdown StartedAt: 2024-06-26 17:14:54 -0400 (Wed, 26 Jun 2024) EndedAt: 2024-06-26 17:15:08 -0400 (Wed, 26 Jun 2024) EllapsedTime: 14.1 seconds RetCode: 0 Status: OK PackageFile: BayesKnockdown_1.30.0.tar.gz PackageFileSize: 115.6 KiB