Package: BayesKnockdown Version: 1.30.0 Command: rm -rf BayesKnockdown.buildbin-libdir && mkdir BayesKnockdown.buildbin-libdir && F:\biocbuild\bbs-3.19-bioc\R\bin\R.exe CMD INSTALL --build --library=BayesKnockdown.buildbin-libdir BayesKnockdown_1.30.0.tar.gz StartedAt: 2024-06-27 07:51:52 -0400 (Thu, 27 Jun 2024) EndedAt: 2024-06-27 07:52:00 -0400 (Thu, 27 Jun 2024) EllapsedTime: 8.0 seconds RetCode: 0 Status: OK PackageFile: BayesKnockdown_1.30.0.zip PackageFileSize: 135 KiB