Package: BayesKnockdown Version: 1.30.0 Command: /home/biocbuild/bbs-3.19-bioc/R/bin/R CMD build --keep-empty-dirs --no-resave-data BayesKnockdown StartedAt: 2024-10-16 17:03:15 -0400 (Wed, 16 Oct 2024) EndedAt: 2024-10-16 17:03:21 -0400 (Wed, 16 Oct 2024) EllapsedTime: 6.0 seconds RetCode: 0 Status: OK PackageFile: BayesKnockdown_1.30.0.tar.gz PackageFileSize: 113.8 KiB