Package: BayesKnockdown Version: 1.30.0 Command: /Library/Frameworks/R.framework/Resources/bin/R CMD INSTALL BayesKnockdown StartedAt: 2024-10-16 15:07:07 -0400 (Wed, 16 Oct 2024) EndedAt: 2024-10-16 15:07:26 -0400 (Wed, 16 Oct 2024) EllapsedTime: 19.2 seconds RetCode: 0 Status: OK