Package: BayesKnockdown Version: 1.30.0 Command: /home/biocbuild/R/R-beta-2024-04-15_r86425/bin/R CMD build --keep-empty-dirs --no-resave-data BayesKnockdown StartedAt: 2024-05-08 22:31:31 -0000 (Wed, 08 May 2024) EndedAt: 2024-05-08 22:31:37 -0000 (Wed, 08 May 2024) EllapsedTime: 6.0 seconds RetCode: 0 Status: OK PackageFile: BayesKnockdown_1.30.0.tar.gz PackageFileSize: 204.6 KiB