Package: BayesKnockdown Version: 1.30.0 Command: /Library/Frameworks/R.framework/Resources/bin/R CMD INSTALL BayesKnockdown StartedAt: 2024-06-09 15:03:45 -0400 (Sun, 09 Jun 2024) EndedAt: 2024-06-09 15:03:50 -0400 (Sun, 09 Jun 2024) EllapsedTime: 5.1 seconds RetCode: 0 Status: OK