Package: BayesKnockdown Version: 1.30.0 Command: rm -rf BayesKnockdown.buildbin-libdir && mkdir BayesKnockdown.buildbin-libdir && /Users/biocbuild/BBS/utils/build-universal.sh BayesKnockdown_1.30.0.tar.gz /Library/Frameworks/R.framework/Resources/bin/R BayesKnockdown.buildbin-libdir StartedAt: 2024-10-18 17:24:19 -0400 (Fri, 18 Oct 2024) EndedAt: 2024-10-18 17:24:25 -0400 (Fri, 18 Oct 2024) EllapsedTime: 5.7 seconds RetCode: 0 Status: OK PackageFile: BayesKnockdown_1.30.0.tgz PackageFileSize: 225.9 KiB