Package: BatchQC Version: 2.0.0 Command: F:\biocbuild\bbs-3.19-bioc\R\bin\R.exe CMD INSTALL BatchQC StartedAt: 2024-06-26 16:45:03 -0400 (Wed, 26 Jun 2024) EndedAt: 2024-06-26 16:45:54 -0400 (Wed, 26 Jun 2024) EllapsedTime: 51.0 seconds RetCode: 0 Status: OK